BEGIN:VCALENDAR
VERSION:2.0
PRODID:Events Booking
BEGIN:VEVENT
UID:69e60e0ba8f00
SUMMARY:Chiến Lược Cạnh Tranh Cho SME
DESCRIPTION:Năng lực cạnh tranh không chỉ đơn giản nằm ở y
 ếu tố giá cả hay chất lượng sản phẩm như nhiều người
  nghĩ. Năng lực cạnh tranh của một sản phẩm ngày nay là m
 ột sự tập hợp của nhiều yếu tố cộng lại. Năng lực c
 ạnh tranh cũng không ai giống ai\, mà nó là con đường đi ri
 êng của từng doanh nghiệp.
LOCATION:171 Võ Thị Sáu\, P7\, Q3\, TPHCM
DTSTART:20191229T013000Z
DTEND:20191229T051500Z
DTSTAMP:20260420T182915Z
ORGANIZER;CN=Group Quản Lý Doanh Nghiệp:MAILTO:admin@qldn.org
GEO:10.783054;106.687092
X-APPLE-STRUCTURED-LOCATION;VALUE=URI;X-ADDRESS=171 Võ Thị Sáu\, P7\, Q
 3\, TPHCM;X-APPLE-RADIUS=72;X-TITLE=VCCI HCM:10.783054;106.687092
END:VEVENT
END:VCALENDAR