BEGIN:VCALENDAR
VERSION:2.0
PRODID:Events Booking
BEGIN:VEVENT
UID:69e60d58d2873
SUMMARY:Thương Hiệu Tỉ Đô Cho TP.HCM - Cơ Hội & Thách Thức
DESCRIPTION:Muốn nâng cao khả năng cạnh tranh của TP. HCM thì ph
 ải có những thương hiệu lớn\, đủ tầm cạnh tranh trên th
 ị trường thế giới. TP. HCM cần định hướng xây dựng th
 ương hiệu sản phẩm\, doanh nghiệp gắn với chương trình th
 ương hiệu quốc gia\, gắn với hình dung\, định vị của th
 ành phố và phải có chiến lược cùng những cải cách\, chí
 nh sách thực thi và các hoạt động biểu tượng.
 Chuyên gia
  thương hiệu Võ Văn Quang nêu lên một thực tế\, ở TP. HCM 
 có những thương hiệu nổi tiếng như Saigontourist\, SaigonCoop\
 , Vissan... nhưng hiện nay lớn rất chậm.
 Nguyên nhân là do n
 hững thương hiệu này không phát triển theo chuỗi hoặc phát
  triển theo chuỗi chậm. Đơn cử như Saigontourist sở hữu nh
 ững khách sạn 5 sao nổi tiếng ở TP. HCM như Majestic\, Grand\,
  Caravelle\, New World\, Sheraton... Nếu Saigontourist phát triển nh
 ững thương hiệu khách sạn này theo chuỗi như Mường Thanh t
 hì hiện nay đã rất lớn.
LOCATION:80/2 Yên Thế\, P. 2\, Q. Tân Bình
DTSTART:20200301T013000Z
DTEND:20200301T051500Z
DTSTAMP:20260420T182616Z
ORGANIZER;CN=Group Quản Lý Doanh Nghiệp:MAILTO:admin@qldn.org
GEO:10.812128;106.668602
X-APPLE-STRUCTURED-LOCATION;VALUE=URI;X-ADDRESS=80/2 Yên Thế\, P. 2\, Q.
  Tân Bình;X-APPLE-RADIUS=72;X-TITLE=Nông Nghiệp Huỳnh Gia (Tầng 5
 ):10.812128;106.668602
END:VEVENT
END:VCALENDAR