BEGIN:VCALENDAR
VERSION:2.0
PRODID:Events Booking
BEGIN:VEVENT
UID:69e61fd19648f
SUMMARY:Nâng Tầm Đội Ngũ Cho Doanh Nghiệp
DESCRIPTION:Hầu hết các doanh chủ\, các nhà quản lý đều bi
 ết rằng chất lượng và sự ổn định của đội ngũ nhân 
 lực luôn đóng vai trò then chốt trong việc duy trì sự phát t
 riển bền vững của doanh nghiệp. Tuy nhiên\, trong thực tế\,
  để có được một đội ngũ \"vừa chất vừa bền\" là m
 ột thách thức rất lớn mà không phải doanh nghiệp nào cũng
  được như ý.&nbsp\;Thách thức này càng lớn hơn đối với 
 các doanh nghiệp nhỏ và siêu nhỏ. Với người lực hạn ch
 ế\, làm sao các doanh nghiệp nhỏ và siêu nhỏ có thể xây d
 ựng cho mình một đội ngũ \"vừa chất vừa bền\" mà ai cũn
 g khao khát có được. Thách thức rất lớn nhưng không phải 
 không có cách. Chúng ta cùng vượt qua thách thức tại buổi O
 ffline lần này
LOCATION:116 Đường Nguyễn Văn Thủ\, Đa Kao\, Quận 1
DTSTART:20200315T013000Z
DTEND:20200315T051500Z
DTSTAMP:20260420T194505Z
ORGANIZER;CN=Group Quản Lý Doanh Nghiệp:MAILTO:admin@qldn.org
GEO:10.788562;106.697548
X-APPLE-STRUCTURED-LOCATION;VALUE=URI;X-ADDRESS=116 Đường Nguyễn Văn
  Thủ\, Đa Kao\, Quận 1;X-APPLE-RADIUS=72;X-TITLE=Think Training Space
 :10.788562;106.697548
END:VEVENT
END:VCALENDAR