BEGIN:VCALENDAR
VERSION:2.0
PRODID:Events Booking
BEGIN:VEVENT
UID:69e620c4af29e
SUMMARY:Quản Lý Công Việc Từ Xa
DESCRIPTION:Theo đề nghị của một số anh chị\, Group Quản Lý
  Doanh Nghiệp mời ông Đỗ Hòa\, một người có gần 10 năm k
 inh nghiệm làm việc trong điều kiện làm việc từ xa chia s
 ẻ với cộng đồng những kiến thức và kinh nghiệm của ôn
 g về \"Quản lý công việc từ xa\".
DTSTART:20200329T020000Z
DTEND:20200329T051500Z
DTSTAMP:20260420T194908Z
ORGANIZER;CN=Group Quản Lý Doanh Nghiệp:MAILTO:admin@qldn.org
END:VEVENT
END:VCALENDAR