BEGIN:VCALENDAR
VERSION:2.0
PRODID:Events Booking
BEGIN:VEVENT
UID:69e6211210b2a
SUMMARY:Thiết Kế Hệ Thống Vận Hành Doanh Nghiệp
DESCRIPTION:Xây dựng một hệ thống vận hành doanh nghiệp hiệ
 u quả là ước mơ của tất cả doanh chủ và nhà quản lý do
 anh nghiệp.Điều đầu tiên để xây dựng hệ thống là thi
 ết kế. Tuy nhiên các doanh nghiệp gặp rất nhiều khó khăn 
 để thiết kế hệ thống. Họ không biết rõ hệ thống vận
  hành bao gồm những thành phần nào? chúng có vai trò ra sao? L
 àm cách nào để thiết kế? Bắt đầu như thế nào?Workshop 
 “Thiết kế hệ thống vận hành doanh nghiệp hiệu quả” s
 ẽ giúp người tham dự trả lời các câu hỏi sao:- Các nguyê
 n tắc để thiết kế hệ thống vận hành doanh nghiệp là gì
 ?- Hệ thống vận hành doanh nghiệp bao gồm những thành phần
  gì?- Thiết kế hệ thống vận hành doanh nghiệp cần phải t
 iến hành như thế nàoCác câu hỏi trên sẽ được giải đá
 p bời chuyên gia LÂM BÌNH BẢO tại Offline '' Thiết Kế Hệ Th
 ống Vận Hành Doanh Nghiệp ''
LOCATION: 87 Trần Quốc Thảo\, P.7\, Q.3\, HCM
DTSTART:20200726T013000Z
DTEND:20200726T051500Z
DTSTAMP:20260420T195026Z
ORGANIZER;CN=Group Quản Lý Doanh Nghiệp:MAILTO:admin@qldn.org
GEO:10.782331;106.686798
X-APPLE-STRUCTURED-LOCATION;VALUE=URI;X-ADDRESS= 87 Trần Quốc Thảo\, 
 P.7\, Q.3\, HCM;X-APPLE-RADIUS=72;X-TITLE=Bộ Ngoại Giao:10.782331;106.
 686798
END:VEVENT
END:VCALENDAR