BEGIN:VCALENDAR
VERSION:2.0
PRODID:Events Booking
BEGIN:VEVENT
UID:69e609580e4d8
SUMMARY:Tạo Và Duy Trì Động Lực Cho Đội Ngũ
DESCRIPTION:Con người thường chỉ đạt đến mức hie
 ̣̂u quả tối đa khi họ được làm việc trong trạng 
 thái tự do nhất\, được làm công việc họ có ky
 ̃ năng tốt nhất\, và được thúc đẩy bởi đọ
 ̂ng lực do chính họ tự tạo ra cho họ.
 Câu hỏi đạ
 ̆t ra là: Làm thế nào để các chủ doanh nghiệp\, cá
 c cấp quản lý tạo ra một môi trường có thể thu
 ́c đẩy và nuôi dưỡng tính chủ động\, sự tư
 ̣ do giúp người lao động phát huy hết phẩm chấ
 t tốt nhất của họ.
LOCATION: 87 Trần Quốc Thảo\, P.7\, Q.3\, HCM
DTSTART:20200920T013000Z
DTEND:20200920T051500Z
DTSTAMP:20260420T180912Z
ORGANIZER;CN=Group Quản Lý Doanh Nghiệp:MAILTO:admin@qldn.org
GEO:10.782331;106.686798
X-APPLE-STRUCTURED-LOCATION;VALUE=URI;X-ADDRESS= 87 Trần Quốc Thảo\, 
 P.7\, Q.3\, HCM;X-APPLE-RADIUS=72;X-TITLE=Bộ Ngoại Giao:10.782331;106.
 686798
END:VEVENT
END:VCALENDAR