BEGIN:VCALENDAR
VERSION:2.0
PRODID:Events Booking
BEGIN:VEVENT
UID:69e6098b98b39
SUMMARY:Đo Lường & Kaizen Thành Tích Nhân Viên
DESCRIPTION:Chắc hẳn các Anh Chị luôn quan tâm và muốn đo lư
 ờng đánh giá thành tích nhân viên nhưng cảm thấy việc áp 
 dụng BSC- KPI đòi hỏi phải bài bản kiên trì và đầu tư th
 ời gian dài. Mặt khác việc đánh giá kết quả làm việc c
 ủa nhân viên lại rất quan trọng không chần chừ được. V
 ậy anh chị có thể áp dụng OLE (OVERALL LABOUR EFFECTIVENESS) - c
 hỉ số hiệu suất lao động toàn diện.Việc đo OLE từng cá
  nhân rất nhanh\, định lượng rõ mỗi người đạt bao nhiêu
  % hiệu quả. Từ đó chúng ta có cơ sở để kaizen (cải ti
 ến) yếu tố nào để nâng cao thành tích nhân viên. Có thể 
 áp dụng theo 3 cách:1. Triển khai áp dụng OLE từ kế hoạch n
 ăm\, xuống kế hoạch quý\, xuống kế hoạch tháng và xuống 
 kế hoạch ngày.2. Nếu không lập được kế hoạch năm\, quý
  (vì bất kỳ lý do nào đó) thì ta triển khai OLE từ kế ho
 ạch tháng xuống kế hoạch ngày.3. Lỡ mà cũng không lập đ
 ược kế hoạch tháng (vì bất kỳ lý do nào đó)\, thì ta tri
 ển khai OLE chỉ từ kế hoạch ngày.Để giúp Anh Chị thực h
 iện được ba cách OLE cực nhanh\, cực khỏe\, Chúng tôi thi
 ết kế chương trình:
LOCATION: 87 Trần Quốc Thảo\, P.7\, Q.3\, HCM
DTSTART:20201004T013000Z
DTEND:20201004T051500Z
DTSTAMP:20260420T181003Z
ORGANIZER;CN=Group Quản Lý Doanh Nghiệp:MAILTO:admin@qldn.org
GEO:10.782331;106.686798
X-APPLE-STRUCTURED-LOCATION;VALUE=URI;X-ADDRESS= 87 Trần Quốc Thảo\, 
 P.7\, Q.3\, HCM;X-APPLE-RADIUS=72;X-TITLE=Bộ Ngoại Giao:10.782331;106.
 686798
END:VEVENT
END:VCALENDAR