BEGIN:VCALENDAR
VERSION:2.0
PRODID:Events Booking
BEGIN:VEVENT
UID:69e61def31034
SUMMARY:Coaching For Performance 2
DESCRIPTION:Coaching For Performance
 Trong tình hình kinh tế kho
 ́ khăn kéo dài\, thị trường thì co hẹp và không ô
 ̉n định\, trong khi cạnh tranh thì rất gay gắt. Đối v
 ới nhiều doanh nghiệp\, chi phí về nhân sự là mo
 ̣̂t gánh nặng\, một mối lo hàng đầu vào mỗi c
 uối tháng.
 Trong khi đó yêu cầu của khách hàng vê
 ̀ cả sản phẩm và dịch vụ thì ngày càng cao hơn và
  công ty thì cũng phải đẩy mạnh kinh doanh để trang tr
 ải chi phí kinh doanh vốn ngày càng cao.
 Trong trường 
 hợp trên\, bạn sẽ làm gì khi doanh nghiệp không có n
 gân sách để tăng thêm nhân sự\, còn mức lương
  thì không đủ cao để có thể chiêu mộ người t
 ài giỏi?
LOCATION: 87 Trần Quốc Thảo\, P.7\, Q.3\, HCM
DTSTART:20200908T013000Z
DTEND:20200908T051500Z
DTSTAMP:20260420T193703Z
ORGANIZER;CN=Group Quản Lý Doanh Nghiệp:MAILTO:admin@qldn.org
GEO:10.782331;106.686798
X-APPLE-STRUCTURED-LOCATION;VALUE=URI;X-ADDRESS= 87 Trần Quốc Thảo\, 
 P.7\, Q.3\, HCM;X-APPLE-RADIUS=72;X-TITLE=Bộ Ngoại Giao:10.782331;106.
 686798
END:VEVENT
END:VCALENDAR