BEGIN:VCALENDAR
VERSION:2.0
PRODID:Events Booking
BEGIN:VEVENT
UID:69e5f1aed08de
SUMMARY:Từ Offline-To-Online: Tối Ưu Doanh Thu\, Tối Thiểu Chi Ph
 í Marketing Sử Dụng Marketing Technology
DESCRIPTION:Khi doanh thu bán hàng tăng\, cũng là khi lợi nhuận t
 ăng lên. Nếu tiền mặt cứ thế liên tục tăng sẽ không có
  công ty nào phá sản. Hay nói cách khác\, khả năng để một 
 doanh nghiệp tiếp tục hoạt động và phát triển dựa vào vi
 ệc quản lý lợi nhuận và dòng tiền\, nói theo ngôn ngữ tà
 i chính là cân bằng giữa tính sinh lời và tính thanh khoản.
 
 Từ phức tạp đến đơn giản! Tại buổi sinh hoạt offline 
 sắp đến ngày 13 tháng 12 năm 2020\, anh Trần Quang Duy sẽ chia
  sẻ chủ đề : “ Tài chính trong kinh doanh” với nội dung s
 au
LOCATION: 87 Trần Quốc Thảo\, P.7\, Q.3\, HCM
DTSTART:20201227T013000Z
DTEND:20201227T051500Z
DTSTAMP:20260420T162814Z
ORGANIZER;CN=Group Quản Lý Doanh Nghiệp:MAILTO:admin@qldn.org
GEO:10.782331;106.686798
X-APPLE-STRUCTURED-LOCATION;VALUE=URI;X-ADDRESS= 87 Trần Quốc Thảo\, 
 P.7\, Q.3\, HCM;X-APPLE-RADIUS=72;X-TITLE=Bộ Ngoại Giao:10.782331;106.
 686798
END:VEVENT
END:VCALENDAR