BEGIN:VCALENDAR
VERSION:2.0
PRODID:Events Booking
BEGIN:VEVENT
UID:69e5ef4f51d26
SUMMARY:Xây Dựng Chiến Lược Kinh Doanh Online Trong Kỷ Nguyên S
 ố 4.0
DESCRIPTION:Để một doanh nghiệp có thể tồn tại\, p
 hát triển trong một môi trường kinh doanh cạnh tranh c
 ao đòi hỏi doanh nghiệp đó phải có một chiến lưo
 ̛̣c kinh doanh tốt\, nhất là trong giai đoạn dịch Covid-1
 9 diễn ra làm thay đổi hành vi mua hàng online. Kinh doanh 
 online trở thành một kênh thiết yếu cho dù doanh ngh
 iệp của bạn hoạt động trong lĩnh vực nào\, kinh doa
 nh theo hình thức nào đi chăng nữa thì bạn cũng phả
 i có một chiến lược kinh doanh online cụ thể\, rõ 
 ràng. Vậy làm thế nào để xây dựng chiến lưo
 ̛̣c kinh doanh online hiệu quả? Nếu bạn hoặc công vie
 ̣̂c kinh doanh của bạn gặp vấn đề sau: · Bạn quá b
 ận rộn nên không có thời gian cho việc xây dựn
 g và phát triển chiến lược\, bạn thiếu chuyên mo
 ̂n Online hoặc kiến thức Online để xây dựng chiê
 ́n lược\, kể cả bạn thiếu các công cụ để xa
 ̂y dựng và thực thi chiến lược ?
LOCATION: 87 Trần Quốc Thảo\, P.7\, Q.3\, HCM
DTSTART:20210110T013000Z
DTEND:20210110T051500Z
DTSTAMP:20260420T161807Z
ORGANIZER;CN=Group Quản Lý Doanh Nghiệp:MAILTO:admin@qldn.org
GEO:10.782331;106.686798
X-APPLE-STRUCTURED-LOCATION;VALUE=URI;X-ADDRESS= 87 Trần Quốc Thảo\, 
 P.7\, Q.3\, HCM;X-APPLE-RADIUS=72;X-TITLE=Bộ Ngoại Giao:10.782331;106.
 686798
END:VEVENT
END:VCALENDAR