BEGIN:VCALENDAR
VERSION:2.0
PRODID:Events Booking
BEGIN:VEVENT
UID:69e5f26f5399e
SUMMARY:Lập Kế Hoạch Bán Hàng - Chuyển Từ Chiến Lược Sang 
 Kế Hoạch Hành Động
DESCRIPTION:Bất cứ doanh nghiệp nào muốn tồn tại và phát tri
 ển được thì phải bán được hàng hay dịch vụ. Việc lậ
 p kế hoạch bán hàng là quan trọng và cần thiết cho bất c
 ứ quản lý bán hàng hay chủ doanh nghiệp nào. Để chinh phụ
 c mục tiêu\, kế hoạch càng rõ ràng\, càng cụ thể thì độ
 i ngũ càng tự tin và chiến bùng nổ nhất. Trong buổi chia s
 ẻ sắp tới\, hãy cùng Group Quản lý doanh nghiệp tìm hiểu v
 ề WHY/WHAT/WHEN/WHO &amp\; HOW (vài công cụ) để làm nên một K
 ế Hoạch Bán Hàng hiệu quả nhất. Tất cả nhân sự làm ngh
 ề sales hay các chủ doanh nghiệp muốn tìm hiểu thêm về vi
 ệc xây dựng kế hoạch bán hàng theo kỳ đều không thể b
 ỏ qua buổi chia sẻ này.
LOCATION: 87 Trần Quốc Thảo\, P.7\, Q.3\, HCM
DTSTART:20210124T013000Z
DTEND:20210124T051500Z
DTSTAMP:20260420T163127Z
ORGANIZER;CN=Group Quản Lý Doanh Nghiệp:MAILTO:admin@qldn.org
GEO:10.782331;106.686798
X-APPLE-STRUCTURED-LOCATION;VALUE=URI;X-ADDRESS= 87 Trần Quốc Thảo\, 
 P.7\, Q.3\, HCM;X-APPLE-RADIUS=72;X-TITLE=Bộ Ngoại Giao:10.782331;106.
 686798
END:VEVENT
END:VCALENDAR