BEGIN:VCALENDAR
VERSION:2.0
PRODID:Events Booking
BEGIN:VEVENT
UID:69e62893de488
SUMMARY:OKR-KPIs Tu Ly Thuyet Den Ung Dung
DESCRIPTION:Tôi tin các nhà Quản Lý Doanh Nghiệp vừa và
  nhỏ (SMEs) không hề xa lạ với các lý thuyết Balance
  Scorecard\, Objectives – Key Results (OKR)\, Objectives – Goals – S
 trategies – Measurements – Tactics (OGSMT)\, thực tiễn chúng
  ta vẫn “vất vả” trong công cuộc Quản Lý Hiệu 
 Quả Thực Hiên Công Việc (Performance Management) hay thự
 c chất là Quản Lý Con Người (Human Resources Manangement) 
 sao cho hiệu quả\, xây dựng niềm tin tưởng trong qua
 ́ trình tác nghiệp\, để sau mỗi kỳ đôi bên ngô
 ̀i nhìn lại chặng đường đã qua\, chúng ta thực su
 ̛̣ trân trọng những gì đạt được\, thú vị với
  những điều mới cần phải học\, thấm thía như
 ̃ng lỗi lầm thực sự không ngờ đến\, đam mê 
 biến đổi những ước mơ trên hành trình hiện 
 thực hóa bằng kết quả\, trăn trở áp dụng lý th
 uyết vào công việc nhằm đạt hiệu quả hơn\, đo
 ̣̂i ngũ cộng tác chặt chẽ giảm thiểu những bâ
 ́t ngờ rơi xuống khi đích đến chỉ còn 1 bước 
 nhảy.
 Các anh/chị đến với buổi hội thảo: OKR 
 –KPIs từ lý thuyết đến ứng dụng\, cùng tìm ra:
 
 1. Nền tảng cơ bản cần khi sử dụng OKR – KPIs
 2.
  Phân biệt giữa chỉ tiêu liên đới trực tiếp 
 đến kết quả (LEADING KPI)\, xây dựng nền tảng dâ
 ̃n dắt đến các chỉ tiêu trực tiếp thấy kết
  quả (LAGGING KPI).
 3. Case studies: cách xây dựng chỉ sô
 ́ KPIs cho DN của mình
 Mong rằng sau buổi hội thảo\, 
 chúng ta nhìn KPIs thấu hiệu chặng đường đạt mu
 ̣c tiêu\, không phải là những cảm xúc cay bi ai.
DTSTART:20210425T010000Z
DTEND:20210425T050000Z
DTSTAMP:20260420T202227Z
ORGANIZER;CN=Group Quản Lý Doanh Nghiệp:MAILTO:admin@qldn.org
END:VEVENT
END:VCALENDAR