BEGIN:VCALENDAR
VERSION:2.0
PRODID:Events Booking
BEGIN:VEVENT
UID:69eb31cfbc915
SUMMARY:Tăng Trưởng Và Thẩm Định Dự Án Đầu Tư
DESCRIPTION:✨ THẨM ĐỊNH DỰ ÁN ĐÓNG VAI TRÒ QUAN TRỌNG TRONG 
 ĐẦU TƯ DỰ ÁN? Doanh nghiệp dù mới khởi nghiệp hay có thâ
 m niên trong nghề thì đề mong muốn tăng quy mô sản xuất ho
 ặc nâng cao năng lực cạnh tranh. Thế nhưng\, đầu tư mới q
 uy mô sản xuất luôn có những rủi ro từ yếu tố bên ngoài
  (thị trường) và nội tại (năng lực\, con người\, nguồn l
 ực tài chính\,...)Chính vì thế\, buổi chia sẻ với chủ đ
 ề TĂNG TRƯỞNG VÀ THẨM ĐỊNH DỰ ÁN ĐẦU TƯ dành cho tất
  cả doanh nghiệp:- Các bước thẩm định dự án đầu tư- L
 ên kế hoạch tài chính- Cơ cấu vốn an toàn- Quản lý rủi r
 o dự ánBuổi chia sẻ dành cho những đối tượng:- Thành viê
 n Group QLDN- Các cấp quản lý\, chuyên viên trong lĩnh vực liê
 n quan- Lưu ý: Sự kiện không phù hợp với sinh viên chưa có 
 kinh nghiệm làm việc
LOCATION:80/2 Yên Thế\, P. 2\, Q. Tân Bình
DTSTART:20220522T013000Z
DTEND:20220522T051500Z
DTSTAMP:20260424T160311Z
ORGANIZER;CN=Group Quản Lý Doanh Nghiệp:MAILTO:admin@qldn.org
GEO:10.812128;106.668602
X-APPLE-STRUCTURED-LOCATION;VALUE=URI;X-ADDRESS=80/2 Yên Thế\, P. 2\, Q.
  Tân Bình;X-APPLE-RADIUS=72;X-TITLE=Nông Nghiệp Huỳnh Gia (Tầng 5
 ):10.812128;106.668602
END:VEVENT
END:VCALENDAR