BEGIN:VCALENDAR
VERSION:2.0
PRODID:Events Booking
BEGIN:VEVENT
UID:69e5f714bfa71
SUMMARY:Động Viên Nhân Viên Và Trọng Dụng Nhân Tài Trong Doanh
  Nghiệp
DESCRIPTION:Sau khi dịch bệnh Covid-19 lắng dịu lại\, cũng là l
 úc doanh nghiệp và hoạt động thương mại\, sản xuất dần 
 đi vào phục hồi. Tuy nhiên\, trên các phương tiện truyền th
 ông chúng ta vẫn đọc được rất nhiều tin tức khó khăn c
 ủa doanh nghiệp ở mọi lĩnh vực\, ngành nghề như đứt gãy
  chuỗi cung ứng\, thiếu hụt lao động\, giá cả biến động
  v.v….Các hệ lụy đó khiến cho nhiều doanh nghiệp phải đ
 ối mặt với những thách thức lớn hơn trong việc xây dựng
  và phát triển bền vững.Làn sóng thu hẹp quy mô kinh doanh tr
 ong và sau dịch\, ảnh hưởng tâm lý làm việc của người la
 o động. Nhận thức của mọi người về công việc và cuộc
  sống đã có những bước thay đổi đáng kể.Hơn lúc nào h
 ết\, đây là giai đoạn doanh nghiệp cần phải thực thi khéo
  léo chương trình động viên nhân viên\, khích lệ tinh thần 
 làm việc\, quan tâm đến sức khỏe tinh thần của người lao
  động trong doanh nhiệp. Đặc biệt là việc giữ chân nhân t
 ài\, trọng dụng họ cũng là yếu tố quan trọng cho việc b
 ảo toàn lực lượng lao động chất lượng hơn.
LOCATION:80/2 Yên Thế\, P. 2\, Q. Tân Bình
DTSTART:20220619T013000Z
DTEND:20220619T051500Z
DTSTAMP:20260420T165116Z
ORGANIZER;CN=Group Quản Lý Doanh Nghiệp:MAILTO:admin@qldn.org
GEO:10.812128;106.668602
X-APPLE-STRUCTURED-LOCATION;VALUE=URI;X-ADDRESS=80/2 Yên Thế\, P. 2\, Q.
  Tân Bình;X-APPLE-RADIUS=72;X-TITLE=Nông Nghiệp Huỳnh Gia (Tầng 5
 ):10.812128;106.668602
END:VEVENT
END:VCALENDAR