BEGIN:VCALENDAR
VERSION:2.0
PRODID:Events Booking
BEGIN:VEVENT
UID:69e5f1334b6b4
SUMMARY:Xây Dựng Bản Đồ Cạnh Tranh Khác Biệt Để Thành Côn
 g Dành Cho SME
DESCRIPTION:Trong kinh doanh\, ai cũng từng biết về đại dương x
 anh. Nơi mà việc kinh doanh không quá quyết liệt như trong đ
 ại dương đỏ. Một trong những điều tạo nên đại dương 
 xanh đó là tạo ra sự khác biệt với đối thủ cạnh tranh v
 à phục vụ khách hàng tốt hơn đối thủ. Ai cũng có thể n
 ói về khác biệt nhưng làm thế nào để xây dựng khác biệ
 t\, lộ trình nào để thực hiện điều đó? Nhất là các doa
 nh nghiệp SME với nguồn lực có hạn\, nhưng buộc phải khác
  biệt để đối đầu với các ông lớn trên thị trường?

  Để giải đáp những khó khăn của SME khi tạo ra sự khác b
 iệt\, chúng tôi trân trọng kính mời Diễn giả Trần Đình C
 ửu\, một chuyên gia về Kaizen đến workshop kỳ này của Group
  Quản lý doanh nghiệp để trình bày chủ đề: “XÂY DỰNG B
 ẢN ĐỒ CẠNH TRANH KHÁC BIỆT ĐỂ THÀNH CÔNG DÀNH CHO SME”
LOCATION:80/2 Yên Thế\, P. 2\, Q. Tân Bình
DTSTART:20220703T013000Z
DTEND:20220703T051500Z
DTSTAMP:20260420T162611Z
ORGANIZER;CN=Group Quản Lý Doanh Nghiệp:MAILTO:admin@qldn.org
GEO:10.812128;106.668602
X-APPLE-STRUCTURED-LOCATION;VALUE=URI;X-ADDRESS=80/2 Yên Thế\, P. 2\, Q.
  Tân Bình;X-APPLE-RADIUS=72;X-TITLE=Nông Nghiệp Huỳnh Gia (Tầng 5
 ):10.812128;106.668602
END:VEVENT
END:VCALENDAR