BEGIN:VCALENDAR
VERSION:2.0
PRODID:Events Booking
BEGIN:VEVENT
UID:69e5f1dd680cb
SUMMARY:Nâng cao năng lực thực thi mục tiêu của đội ngũ bằ
 ng EOS
DESCRIPTION:Hiện nay\, mỗi cá nhân trong tổ chức hay mỗi tổ c
 hức đều có những KPI để thực hiện theo định kỳ (tháng
 /quý/năm). Mục tiêu đặt ra luôn có. Làm sao mỗi cá nhân\, t
 ổ chức\, các nhà quản lý đánh giá tiến trình mục tiêu đ
 ó thực thi ra sao? Làm cách nào để kịp thời điều chỉnh 
 để có kết quả sau cùng là khả thi? Ngay cả mục tiêu trong
  cuộc họp nhóm hay họp toàn thể cty thì liệu mục tiêu đó
  theo sát không? Thực thi ra sao? Kết quả mong đợi là gì?
 T
 heo một cuộc khảo sát gần đây\, hơn 400 nhà lãnh đạo trê
 n thế giới đã xác định rằng: THỰC THI chính là thách th
 ức hàng đầu đối với các nhà lãnh đạo doanh nghiệp tại
  châu Á\, châu Âu và Hoa Kỳ. Trong đó\, phần lớn cho rằng t
 ỉ lệ thực thi thành công dao động trong khoảng từ 10% – 3
 5%. Đây là một con số thấp đáng kinh ngạc và gây thất v
 ọng đối với các nhà lãnh đạo. Nó cũng cho thấy một kho
 ảng cách khá lớn giữa việc “Lập Kế hoạch trong suy nghĩ
 ” và việc THỰC THI trên thực tế.
LOCATION:80/2 Yên Thế\, P. 2\, Q. Tân Bình
DTSTART:20220717T013000Z
DTEND:20220717T051500Z
DTSTAMP:20260420T162901Z
ORGANIZER;CN=Group Quản Lý Doanh Nghiệp:MAILTO:admin@qldn.org
GEO:10.812128;106.668602
X-APPLE-STRUCTURED-LOCATION;VALUE=URI;X-ADDRESS=80/2 Yên Thế\, P. 2\, Q.
  Tân Bình;X-APPLE-RADIUS=72;X-TITLE=Nông Nghiệp Huỳnh Gia (Tầng 5
 ):10.812128;106.668602
END:VEVENT
END:VCALENDAR