BEGIN:VCALENDAR
VERSION:2.0
PRODID:Events Booking
BEGIN:VEVENT
UID:69eb3168a731d
SUMMARY:Xem xét và kiểm tra chiến lược “chơi để thắng”
DESCRIPTION:Trải qua 6 tháng đầu năm 2022\, doanh nghiệp của Qu
 ý Anh\, Chị đã ngồi lại đánh giá những gì thực hiện so 
 với chiến lược của doanh nghiệp mình chưa? Có những dấu 
 hiệu bị lệch khỏi chiến lược? Lúc này đã có kế hoạch
  cho những hành động khắc phục nào không? (theo tinh thần c
 ủa ISO 9001:2015). Chúng tôi nghĩ rằng bất cứ doanh nghiệp n
 ào cũng có chuẩn bị cho mình một chiến lược. Nhưng có bao
  giờ quý vị đã nghĩ về một chiến lược thắng không? Hay
  chỉ nghĩ về chiến lược chung chung nào đó? Chúng tôi nghĩ
  rằng\, quý anh\, chị doanh nghiệp đều mong muốn cho chiến l
 ược của mình sẽ thắng. Tất nhiên\, tham gia cuộc chơi nào
  ai cũng muốn thắng từ cá nhân đến tổ chức.
LOCATION:80/2 Yên Thế\, P. 2\, Q. Tân Bình
DTSTART:20220731T013000Z
DTEND:20220731T051500Z
DTSTAMP:20260424T160128Z
ORGANIZER;CN=Group Quản Lý Doanh Nghiệp:MAILTO:admin@qldn.org
GEO:10.812128;106.668602
X-APPLE-STRUCTURED-LOCATION;VALUE=URI;X-ADDRESS=80/2 Yên Thế\, P. 2\, Q.
  Tân Bình;X-APPLE-RADIUS=72;X-TITLE=Nông Nghiệp Huỳnh Gia (Tầng 5
 ):10.812128;106.668602
END:VEVENT
END:VCALENDAR