BEGIN:VCALENDAR
VERSION:2.0
PRODID:Events Booking
BEGIN:VEVENT
UID:69e625657198d
SUMMARY:Đọc Hiểu Báo Cáo Tài Chính
DESCRIPTION:Với vai trò là những nhà quản trị doanh nghiệp\, b
 ên cạnh nhiệm vụ phát triển kinh doanh chúng ta còn nhiệm v
 ụ phát triển tổ chức. Hai nhiệm vụ này đồng hành với n
 hau- tương sinh lẫn nhau. Nếu không thể phát triển năng lực
  tổ chức\, chúng ta khó có thể phát triển kinh doanh\, và ng
 ược lại.
 NỘI DUNG CHÍNH NĂNG LỰC TỔ CHỨCI. KHÁI NIỆM N
 ĂNG LỰC TỔ CHỨCII. CÁC YẾU TỐ NĂNG LỰCIII. NHẬN DIỆN C
 ÁC TRỞ LỰCIV. PHÁT TRIỂN NĂNG LỰC
LOCATION:171 Võ Thị Sáu\, P7\, Q3\, TPHCM
DTSTART:20191201T013000Z
DTEND:20191201T051500Z
DTSTAMP:20260420T200853Z
ORGANIZER;CN=Group Quản Lý Doanh Nghiệp:MAILTO:admin@qldn.org
GEO:10.783054;106.687092
X-APPLE-STRUCTURED-LOCATION;VALUE=URI;X-ADDRESS=171 Võ Thị Sáu\, P7\, Q
 3\, TPHCM;X-APPLE-RADIUS=72;X-TITLE=VCCI HCM:10.783054;106.687092
END:VEVENT
END:VCALENDAR