BEGIN:VCALENDAR
VERSION:2.0
PRODID:Events Booking
BEGIN:VEVENT
UID:69e60df094c60
SUMMARY:Tài Chính Cho CEO
DESCRIPTION:Tiếp theo buổi chia sẻ về “đọc hiểu báo cáo t
 ài chính”\, hôm nay chúng ta sẽ đến một chủ đề chuyên s
 âu hơn “Tài chính cho CEO”.Cuối năm hoặc đầu năm là th
 ời điểm doanh nghiệp sẽ lên kế hoạch tài chính hoặc ngâ
 n sách hoạt động. Trong khi việc lập ngân sách hoạt động 
 từng năm với phương pháp “từ dưới lên” đòi hỏi khá 
 nhiều công sức và nguồn lực với sự kết hợp ngân sách b
 ộ phận của từng phòng ban\, thì kế hoạch tài chính từ 3 
 đến 5 năm lại đòi hỏi ít công sức hơn và phù hợp với 
 các doanh nghiệp SME với phương pháp xây dựng “từ trên xu
 ống”. Kế hoạch tài chính sẽ là một bảng tóm lược tìn
 h hình tài chính của một công ty\, và là la bàn định hướn
 g công ty trong dài hạn.
LOCATION:171 Võ Thị Sáu\, P7\, Q3\, TPHCM
DTSTART:20200112T013000Z
DTEND:20200112T051500Z
DTSTAMP:20260420T182848Z
ORGANIZER;CN=Group Quản Lý Doanh Nghiệp:MAILTO:admin@qldn.org
GEO:10.783054;106.687092
X-APPLE-STRUCTURED-LOCATION;VALUE=URI;X-ADDRESS=171 Võ Thị Sáu\, P7\, Q
 3\, TPHCM;X-APPLE-RADIUS=72;X-TITLE=VCCI HCM:10.783054;106.687092
END:VEVENT
END:VCALENDAR